BEGIN:VCALENDAR
VERSION:2.0
PRODID:-//wp-events-plugin.com//7.2.3.1//EN
TZID:Europe/Paris
X-WR-TIMEZONE:Europe/Paris
BEGIN:VEVENT
UID:29@cfdt-cavac.fr
DTSTART;TZID=Europe/Paris:20260428T090000
DTEND;TZID=Europe/Paris:20260428T170000
DTSTAMP:20260320T111559Z
URL:https://cfdt-cavac.fr/events/ssct-visites-de-sites/
SUMMARY:SSCT : VISITES DE SITES
DESCRIPTION:Au moins 4 fois par an\, des membres élus de la commission SSC
 T se déplacent sur un site CAVAC\, accompagné d'un représentant du serv
 ice sécurité\, afin de rendre compte des conditions de travail des salar
 iés. Sécurité\, hygiène\, qualité de vie au travail sont autant de th
 ématiques abordées lors des échanges avec les collègues.\n\nCes visite
 s se concluent par un compte rendu détaillé qui est présenté lors des 
 réunions CSE dédié à la SSCT.
ATTACH;FMTTYPE=image/jpeg:https://cfdt-cavac.fr/wp-content/uploads/2026/02
 /Diapo-Visite-SSCT-grise.jpg
CATEGORIES:CSST
END:VEVENT
BEGIN:VTIMEZONE
TZID:Europe/Paris
X-LIC-LOCATION:Europe/Paris
BEGIN:DAYLIGHT
DTSTART:20260329T030000
TZOFFSETFROM:+0100
TZOFFSETTO:+0200
TZNAME:CEST
END:DAYLIGHT
END:VTIMEZONE
END:VCALENDAR